BEGIN:VCALENDAR
VERSION:2.0
PRODID:-//Federación Madrileña de Ajedrez - ECPv6.15.20//NONSGML v1.0//EN
CALSCALE:GREGORIAN
METHOD:PUBLISH
X-ORIGINAL-URL:https://ajedrez.madrid
X-WR-CALDESC:Eventos para Federación Madrileña de Ajedrez
REFRESH-INTERVAL;VALUE=DURATION:PT1H
X-Robots-Tag:noindex
X-PUBLISHED-TTL:PT1H
BEGIN:VTIMEZONE
TZID:Europe/Madrid
BEGIN:DAYLIGHT
TZOFFSETFROM:+0100
TZOFFSETTO:+0200
TZNAME:CEST
DTSTART:20250330T010000
END:DAYLIGHT
BEGIN:STANDARD
TZOFFSETFROM:+0200
TZOFFSETTO:+0100
TZNAME:CET
DTSTART:20251026T010000
END:STANDARD
BEGIN:DAYLIGHT
TZOFFSETFROM:+0100
TZOFFSETTO:+0200
TZNAME:CEST
DTSTART:20260329T010000
END:DAYLIGHT
BEGIN:STANDARD
TZOFFSETFROM:+0200
TZOFFSETTO:+0100
TZNAME:CET
DTSTART:20261025T010000
END:STANDARD
BEGIN:DAYLIGHT
TZOFFSETFROM:+0100
TZOFFSETTO:+0200
TZNAME:CEST
DTSTART:20270328T010000
END:DAYLIGHT
BEGIN:STANDARD
TZOFFSETFROM:+0200
TZOFFSETTO:+0100
TZNAME:CET
DTSTART:20271031T010000
END:STANDARD
END:VTIMEZONE
BEGIN:VEVENT
DTSTART;VALUE=DATE:20260411
DTEND;VALUE=DATE:20260413
DTSTAMP:20260419T175227
CREATED:20250711T180105Z
LAST-MODIFIED:20250711T184701Z
UID:2844-1775865600-1776038399@ajedrez.madrid
SUMMARY:Campeonatos Autonómicos Sub-10 – Sub-20 – Final 2025/2026
DESCRIPTION:
URL:https://ajedrez.madrid/campeonato/campeonatos-autonomicos-sub-10-sub-20-final-2025-2026/
LOCATION:Federación Madrileña de Ajedrez\, Calle Payaso Fofó\, 1\, Madrid\, Madrid\, 28018\, España
CATEGORIES:2025/2026,Competiciones Oficiales
ORGANIZER;CN="Federaci%C3%B3n Madrile%C3%B1a de Ajedrez":MAILTO:federacion@ajedrez.madrid
END:VEVENT
BEGIN:VEVENT
DTSTART;VALUE=DATE:20260420
DTEND;VALUE=DATE:20260425
DTSTAMP:20260419T175227
CREATED:20250711T181449Z
LAST-MODIFIED:20250711T181722Z
UID:2855-1776643200-1777075199@ajedrez.madrid
SUMMARY:Inscripción Campeonato de Ajedrez Sub-16 por Equipos 2025/2026
DESCRIPTION:
URL:https://ajedrez.madrid/campeonato/inscripcion-campeonato-de-ajedrez-sub-16-por-equipos-2025-2026/
LOCATION:Federación Madrileña de Ajedrez\, Calle Payaso Fofó\, 1\, Madrid\, Madrid\, 28018\, España
CATEGORIES:2025/2026,Competiciones Oficiales,Inscripción
ORGANIZER;CN="Federaci%C3%B3n Madrile%C3%B1a de Ajedrez":MAILTO:federacion@ajedrez.madrid
END:VEVENT
BEGIN:VEVENT
DTSTART;VALUE=DATE:20260420
DTEND;VALUE=DATE:20260425
DTSTAMP:20260419T175227
CREATED:20250711T182119Z
LAST-MODIFIED:20250711T182119Z
UID:2861-1776643200-1777075199@ajedrez.madrid
SUMMARY:Inscripción Campeonato Individual Absoluto – Final 2025/2026
DESCRIPTION:
URL:https://ajedrez.madrid/campeonato/inscripcion-campeonato-individual-absoluto-final-2025-2026/
LOCATION:Federación Madrileña de Ajedrez\, Calle Payaso Fofó\, 1\, Madrid\, Madrid\, 28018\, España
CATEGORIES:2025/2026,Competiciones Oficiales,Inscripción
ORGANIZER;CN="Federaci%C3%B3n Madrile%C3%B1a de Ajedrez":MAILTO:federacion@ajedrez.madrid
END:VEVENT
BEGIN:VEVENT
DTSTART;VALUE=DATE:20260420
DTEND;VALUE=DATE:20260425
DTSTAMP:20260419T175227
CREATED:20250711T182959Z
LAST-MODIFIED:20250711T182959Z
UID:2875-1776643200-1777075199@ajedrez.madrid
SUMMARY:Inscripción Campeonato Individual Veteranos +65 2025/2026
DESCRIPTION:
URL:https://ajedrez.madrid/campeonato/inscripcion-campeonato-individual-veteranos-65-2025-2026/
LOCATION:Federación Madrileña de Ajedrez\, Calle Payaso Fofó\, 1\, Madrid\, Madrid\, 28018\, España
CATEGORIES:2025/2026,Competiciones Oficiales,Inscripción
ORGANIZER;CN="Federaci%C3%B3n Madrile%C3%B1a de Ajedrez":MAILTO:federacion@ajedrez.madrid
END:VEVENT
BEGIN:VEVENT
DTSTART;VALUE=DATE:20260420
DTEND;VALUE=DATE:20260501
DTSTAMP:20260419T175227
CREATED:20250711T183846Z
LAST-MODIFIED:20250711T183846Z
UID:2886-1776643200-1777593599@ajedrez.madrid
SUMMARY:Órdenes de fuerza Campeonato de Ajedrez Sub-16 por Equipos 2025/2026
DESCRIPTION:
URL:https://ajedrez.madrid/campeonato/ordenes-de-fuerza-campeonato-de-ajedrez-sub-16-por-equipos-2025-2026/
LOCATION:Federación Madrileña de Ajedrez\, Calle Payaso Fofó\, 1\, Madrid\, Madrid\, 28018\, España
CATEGORIES:2025/2026,Competiciones Oficiales,Inscripción
ORGANIZER;CN="Federaci%C3%B3n Madrile%C3%B1a de Ajedrez":MAILTO:federacion@ajedrez.madrid
END:VEVENT
BEGIN:VEVENT
DTSTART;VALUE=DATE:20260426
DTEND;VALUE=DATE:20260427
DTSTAMP:20260419T175227
CREATED:20250711T173613Z
LAST-MODIFIED:20250711T184611Z
UID:2838-1777161600-1777247999@ajedrez.madrid
SUMMARY:Campeonato Individual Sub-8 2025/2026
DESCRIPTION:
URL:https://ajedrez.madrid/campeonato/campeonato-individual-sub-8-2025-2026/
LOCATION:Federación Madrileña de Ajedrez\, Calle Payaso Fofó\, 1\, Madrid\, Madrid\, 28018\, España
CATEGORIES:2025/2026,Competiciones Oficiales
ORGANIZER;CN="Federaci%C3%B3n Madrile%C3%B1a de Ajedrez":MAILTO:federacion@ajedrez.madrid
END:VEVENT
BEGIN:VEVENT
DTSTART;VALUE=DATE:20260504
DTEND;VALUE=DATE:20260509
DTSTAMP:20260419T175227
CREATED:20250711T182446Z
LAST-MODIFIED:20250711T182446Z
UID:2867-1777852800-1778284799@ajedrez.madrid
SUMMARY:Inscripción Campeonato Individual de Ajedrez Inclusivo 2025/2026
DESCRIPTION:
URL:https://ajedrez.madrid/campeonato/inscripcion-campeonato-individual-de-ajedrez-inclusivo-2025-2026/
LOCATION:Federación Madrileña de Ajedrez\, Calle Payaso Fofó\, 1\, Madrid\, Madrid\, 28018\, España
CATEGORIES:2025/2026,Competiciones Oficiales,Inscripción
ORGANIZER;CN="Federaci%C3%B3n Madrile%C3%B1a de Ajedrez":MAILTO:federacion@ajedrez.madrid
END:VEVENT
BEGIN:VEVENT
DTSTART;VALUE=DATE:20260509
DTEND;VALUE=DATE:20260510
DTSTAMP:20260419T175227
CREATED:20250711T172204Z
LAST-MODIFIED:20250711T184355Z
UID:2817-1778284800-1778371199@ajedrez.madrid
SUMMARY:Campeonato de Ajedrez Sub-16 por Equipos 2025/2026
DESCRIPTION:
URL:https://ajedrez.madrid/campeonato/campeonato-de-ajedrez-sub-16-por-equipos-2025-2026/
LOCATION:Federación Madrileña de Ajedrez\, Calle Payaso Fofó\, 1\, Madrid\, Madrid\, 28018\, España
CATEGORIES:2025/2026
ORGANIZER;CN="Federaci%C3%B3n Madrile%C3%B1a de Ajedrez":MAILTO:federacion@ajedrez.madrid
END:VEVENT
BEGIN:VEVENT
DTSTART;VALUE=DATE:20260516
DTEND;VALUE=DATE:20260518
DTSTAMP:20260419T175227
CREATED:20250711T173540Z
LAST-MODIFIED:20250711T184548Z
UID:2836-1778889600-1779062399@ajedrez.madrid
SUMMARY:Campeonato Individual de Ajedrez Inclusivo 2025/2026
DESCRIPTION:
URL:https://ajedrez.madrid/campeonato/campeonato-individual-de-ajedrez-inclusivo-2025-2026/
LOCATION:Federación Madrileña de Ajedrez\, Calle Payaso Fofó\, 1\, Madrid\, Madrid\, 28018\, España
CATEGORIES:2025/2026,Competiciones Oficiales
ORGANIZER;CN="Federaci%C3%B3n Madrile%C3%B1a de Ajedrez":MAILTO:federacion@ajedrez.madrid
END:VEVENT
BEGIN:VEVENT
DTSTART;VALUE=DATE:20260518
DTEND;VALUE=DATE:20260519
DTSTAMP:20260419T175227
CREATED:20250711T173849Z
LAST-MODIFIED:20250711T184646Z
UID:2842-1779062400-1779148799@ajedrez.madrid
SUMMARY:Campeonato Individual Veteranos +65 2025/2026
DESCRIPTION:
URL:https://ajedrez.madrid/campeonato/campeonato-individual-veteranos-65-2025-2026/
LOCATION:Federación Madrileña de Ajedrez\, Calle Payaso Fofó\, 1\, Madrid\, Madrid\, 28018\, España
CATEGORIES:2025/2026,Competiciones Oficiales
ORGANIZER;CN="Federaci%C3%B3n Madrile%C3%B1a de Ajedrez":MAILTO:federacion@ajedrez.madrid
END:VEVENT
BEGIN:VEVENT
DTSTART;VALUE=DATE:20260518
DTEND;VALUE=DATE:20260519
DTSTAMP:20260419T175227
CREATED:20250711T173849Z
LAST-MODIFIED:20250711T184646Z
UID:2842-1779062400-1779148799@ajedrez.madrid
SUMMARY:Campeonato Individual Veteranos +65 2025/2026
DESCRIPTION:
URL:https://ajedrez.madrid/campeonato/campeonato-individual-veteranos-65-2025-2026/
LOCATION:Federación Madrileña de Ajedrez\, Calle Payaso Fofó\, 1\, Madrid\, Madrid\, 28018\, España
CATEGORIES:2025/2026,Competiciones Oficiales
ORGANIZER;CN="Federaci%C3%B3n Madrile%C3%B1a de Ajedrez":MAILTO:federacion@ajedrez.madrid
END:VEVENT
BEGIN:VEVENT
DTSTART;VALUE=DATE:20260518
DTEND;VALUE=DATE:20260519
DTSTAMP:20260419T175227
CREATED:20250711T173849Z
LAST-MODIFIED:20250711T184646Z
UID:2842-1779062400-1779148799@ajedrez.madrid
SUMMARY:Campeonato Individual Veteranos +65 2025/2026
DESCRIPTION:
URL:https://ajedrez.madrid/campeonato/campeonato-individual-veteranos-65-2025-2026/
LOCATION:Federación Madrileña de Ajedrez\, Calle Payaso Fofó\, 1\, Madrid\, Madrid\, 28018\, España
CATEGORIES:2025/2026,Competiciones Oficiales
ORGANIZER;CN="Federaci%C3%B3n Madrile%C3%B1a de Ajedrez":MAILTO:federacion@ajedrez.madrid
END:VEVENT
BEGIN:VEVENT
DTSTART;VALUE=DATE:20260518
DTEND;VALUE=DATE:20260519
DTSTAMP:20260419T175227
CREATED:20250711T173849Z
LAST-MODIFIED:20250711T184646Z
UID:2842-1779062400-1779148799@ajedrez.madrid
SUMMARY:Campeonato Individual Veteranos +65 2025/2026
DESCRIPTION:
URL:https://ajedrez.madrid/campeonato/campeonato-individual-veteranos-65-2025-2026/
LOCATION:Federación Madrileña de Ajedrez\, Calle Payaso Fofó\, 1\, Madrid\, Madrid\, 28018\, España
CATEGORIES:2025/2026,Competiciones Oficiales
ORGANIZER;CN="Federaci%C3%B3n Madrile%C3%B1a de Ajedrez":MAILTO:federacion@ajedrez.madrid
END:VEVENT
BEGIN:VEVENT
DTSTART;VALUE=DATE:20260523
DTEND;VALUE=DATE:20260525
DTSTAMP:20260419T175227
CREATED:20250711T173338Z
LAST-MODIFIED:20250711T184509Z
UID:2829-1779494400-1779667199@ajedrez.madrid
SUMMARY:Campeonato Individual Absoluto – Final 2025/2026
DESCRIPTION:
URL:https://ajedrez.madrid/campeonato/campeonato-individual-absoluto-final-2025-2026/
LOCATION:Federación Madrileña de Ajedrez\, Calle Payaso Fofó\, 1\, Madrid\, Madrid\, 28018\, España
CATEGORIES:2025/2026,Competiciones Oficiales
ORGANIZER;CN="Federaci%C3%B3n Madrile%C3%B1a de Ajedrez":MAILTO:federacion@ajedrez.madrid
END:VEVENT
BEGIN:VEVENT
DTSTART;VALUE=DATE:20260518
DTEND;VALUE=DATE:20260519
DTSTAMP:20260419T175227
CREATED:20250711T173849Z
LAST-MODIFIED:20250711T184646Z
UID:2842-1779062400-1779148799@ajedrez.madrid
SUMMARY:Campeonato Individual Veteranos +65 2025/2026
DESCRIPTION:
URL:https://ajedrez.madrid/campeonato/campeonato-individual-veteranos-65-2025-2026/
LOCATION:Federación Madrileña de Ajedrez\, Calle Payaso Fofó\, 1\, Madrid\, Madrid\, 28018\, España
CATEGORIES:2025/2026,Competiciones Oficiales
ORGANIZER;CN="Federaci%C3%B3n Madrile%C3%B1a de Ajedrez":MAILTO:federacion@ajedrez.madrid
END:VEVENT
BEGIN:VEVENT
DTSTART;VALUE=DATE:20260525
DTEND;VALUE=DATE:20260530
DTSTAMP:20260419T175227
CREATED:20250711T182235Z
LAST-MODIFIED:20250711T182235Z
UID:2863-1779667200-1780099199@ajedrez.madrid
SUMMARY:Inscripción Campeonato Individual Ajedrez Rápido 2025/2026
DESCRIPTION:
URL:https://ajedrez.madrid/campeonato/inscripcion-campeonato-individual-ajedrez-rapido-2025-2026/
LOCATION:Federación Madrileña de Ajedrez\, Calle Payaso Fofó\, 1\, Madrid\, Madrid\, 28018\, España
CATEGORIES:2025/2026,Competiciones Oficiales,Inscripción
ORGANIZER;CN="Federaci%C3%B3n Madrile%C3%B1a de Ajedrez":MAILTO:federacion@ajedrez.madrid
END:VEVENT
BEGIN:VEVENT
DTSTART;VALUE=DATE:20260525
DTEND;VALUE=DATE:20260530
DTSTAMP:20260419T175227
CREATED:20250711T182556Z
LAST-MODIFIED:20250711T182557Z
UID:2869-1779667200-1780099199@ajedrez.madrid
SUMMARY:Inscripción Campeonato Individual por tramos de ELO 2025/2026
DESCRIPTION:
URL:https://ajedrez.madrid/campeonato/inscripcion-campeonato-individual-por-tramos-de-elo-2025-2026/
LOCATION:Federación Madrileña de Ajedrez\, Calle Payaso Fofó\, 1\, Madrid\, Madrid\, 28018\, España
CATEGORIES:2025/2026,Competiciones Oficiales,Inscripción
ORGANIZER;CN="Federaci%C3%B3n Madrile%C3%B1a de Ajedrez":MAILTO:federacion@ajedrez.madrid
END:VEVENT
BEGIN:VEVENT
DTSTART;VALUE=DATE:20260518
DTEND;VALUE=DATE:20260519
DTSTAMP:20260419T175227
CREATED:20250711T173849Z
LAST-MODIFIED:20250711T184646Z
UID:2842-1779062400-1779148799@ajedrez.madrid
SUMMARY:Campeonato Individual Veteranos +65 2025/2026
DESCRIPTION:
URL:https://ajedrez.madrid/campeonato/campeonato-individual-veteranos-65-2025-2026/
LOCATION:Federación Madrileña de Ajedrez\, Calle Payaso Fofó\, 1\, Madrid\, Madrid\, 28018\, España
CATEGORIES:2025/2026,Competiciones Oficiales
ORGANIZER;CN="Federaci%C3%B3n Madrile%C3%B1a de Ajedrez":MAILTO:federacion@ajedrez.madrid
END:VEVENT
BEGIN:VEVENT
DTSTART;VALUE=DATE:20260518
DTEND;VALUE=DATE:20260519
DTSTAMP:20260419T175227
CREATED:20250711T173849Z
LAST-MODIFIED:20250711T184646Z
UID:2842-1779062400-1779148799@ajedrez.madrid
SUMMARY:Campeonato Individual Veteranos +65 2025/2026
DESCRIPTION:
URL:https://ajedrez.madrid/campeonato/campeonato-individual-veteranos-65-2025-2026/
LOCATION:Federación Madrileña de Ajedrez\, Calle Payaso Fofó\, 1\, Madrid\, Madrid\, 28018\, España
CATEGORIES:2025/2026,Competiciones Oficiales
ORGANIZER;CN="Federaci%C3%B3n Madrile%C3%B1a de Ajedrez":MAILTO:federacion@ajedrez.madrid
END:VEVENT
BEGIN:VEVENT
DTSTART;VALUE=DATE:20260523
DTEND;VALUE=DATE:20260525
DTSTAMP:20260419T175227
CREATED:20250711T173338Z
LAST-MODIFIED:20250711T184509Z
UID:2829-1779494400-1779667199@ajedrez.madrid
SUMMARY:Campeonato Individual Absoluto – Final 2025/2026
DESCRIPTION:
URL:https://ajedrez.madrid/campeonato/campeonato-individual-absoluto-final-2025-2026/
LOCATION:Federación Madrileña de Ajedrez\, Calle Payaso Fofó\, 1\, Madrid\, Madrid\, 28018\, España
CATEGORIES:2025/2026,Competiciones Oficiales
ORGANIZER;CN="Federaci%C3%B3n Madrile%C3%B1a de Ajedrez":MAILTO:federacion@ajedrez.madrid
END:VEVENT
BEGIN:VEVENT
DTSTART;VALUE=DATE:20260601
DTEND;VALUE=DATE:20260606
DTSTAMP:20260419T175227
CREATED:20250711T182323Z
LAST-MODIFIED:20250711T182323Z
UID:2865-1780272000-1780703999@ajedrez.madrid
SUMMARY:Inscripción Campeonato Individual Ajedrez Relámpago 2025/2026
DESCRIPTION:
URL:https://ajedrez.madrid/campeonato/inscripcion-campeonato-individual-ajedrez-relampago-2025-2026/
LOCATION:Federación Madrileña de Ajedrez\, Calle Payaso Fofó\, 1\, Madrid\, Madrid\, 28018\, España
CATEGORIES:2025/2026,Competiciones Oficiales,Inscripción
ORGANIZER;CN="Federaci%C3%B3n Madrile%C3%B1a de Ajedrez":MAILTO:federacion@ajedrez.madrid
END:VEVENT
BEGIN:VEVENT
DTSTART;VALUE=DATE:20260605
DTEND;VALUE=DATE:20260608
DTSTAMP:20260419T175227
CREATED:20250711T181107Z
LAST-MODIFIED:20250711T184600Z
UID:2851-1780617600-1780876799@ajedrez.madrid
SUMMARY:Campeonato Individual por tramos de ELO 2025/2026
DESCRIPTION:
URL:https://ajedrez.madrid/campeonato/campeonato-individual-por-tramos-de-elo-2025-2026/
LOCATION:Federación Madrileña de Ajedrez\, Calle Payaso Fofó\, 1\, Madrid\, Madrid\, 28018\, España
CATEGORIES:2025/2026,Competiciones Oficiales
ORGANIZER;CN="Federaci%C3%B3n Madrile%C3%B1a de Ajedrez":MAILTO:federacion@ajedrez.madrid
END:VEVENT
BEGIN:VEVENT
DTSTART;VALUE=DATE:20260607
DTEND;VALUE=DATE:20260608
DTSTAMP:20260419T175227
CREATED:20250711T173417Z
LAST-MODIFIED:20250711T184521Z
UID:2832-1780790400-1780876799@ajedrez.madrid
SUMMARY:Campeonato Individual Ajedrez Rápido 2025/2026
DESCRIPTION:
URL:https://ajedrez.madrid/campeonato/campeonato-individual-ajedrez-rapido-2025-2026/
LOCATION:Federación Madrileña de Ajedrez\, Calle Payaso Fofó\, 1\, Madrid\, Madrid\, 28018\, España
CATEGORIES:2025/2026,Competiciones Oficiales
ORGANIZER;CN="Federaci%C3%B3n Madrile%C3%B1a de Ajedrez":MAILTO:federacion@ajedrez.madrid
END:VEVENT
BEGIN:VEVENT
DTSTART;TZID=Europe/Madrid:20260614T080000
DTEND;TZID=Europe/Madrid:20260614T170000
DTSTAMP:20260419T175227
CREATED:20250711T173455Z
LAST-MODIFIED:20250711T184535Z
UID:2834-1781424000-1781456400@ajedrez.madrid
SUMMARY:Campeonato Individual Ajedrez Relámpago 2025/2026
DESCRIPTION:
URL:https://ajedrez.madrid/campeonato/campeonato-individual-ajedrez-relampago-2025-2026/
LOCATION:Federación Madrileña de Ajedrez\, Calle Payaso Fofó\, 1\, Madrid\, Madrid\, 28018\, España
CATEGORIES:2025/2026,Competiciones Oficiales
ORGANIZER;CN="Federaci%C3%B3n Madrile%C3%B1a de Ajedrez":MAILTO:federacion@ajedrez.madrid
END:VEVENT
END:VCALENDAR