BEGIN:VCALENDAR
VERSION:2.0
PRODID:-//wp-events-plugin.com//7.2.3.1//EN
TZID:Europe/Madrid
X-WR-TIMEZONE:Europe/Madrid
BEGIN:VEVENT
UID:66@ajedrez.madrid
DTSTART;TZID=Europe/Madrid:20250622T100000
DTEND;TZID=Europe/Madrid:20250622T140000
DTSTAMP:20250513T135629Z
URL:https://ajedrez.madrid/eventos/i-torneo-rapidas-aranjuez/
SUMMARY:I Torneo Rápidas Aranjuez
DESCRIPTION:[pdf-embedder url="https://ajedrez.madrid/wp-content/uploads/I-
 Torneo-Rapidas-Aranjuez.pdf" title="I Torneo Rápidas Aranjuez"]
END:VEVENT
BEGIN:VTIMEZONE
TZID:Europe/Madrid
X-LIC-LOCATION:Europe/Madrid
BEGIN:DAYLIGHT
DTSTART:20250330T030000
TZOFFSETFROM:+0100
TZOFFSETTO:+0200
TZNAME:CEST
END:DAYLIGHT
END:VTIMEZONE
END:VCALENDAR