BEGIN:VCALENDAR
VERSION:2.0
PRODID:-//wp-events-plugin.com//7.2.3.1//EN
TZID:Europe/Madrid
X-WR-TIMEZONE:Europe/Madrid
BEGIN:VEVENT
UID:60@ajedrez.madrid
DTSTART;TZID=Europe/Madrid:20250510T100000
DTEND;TZID=Europe/Madrid:20250510T140000
DTSTAMP:20250429T182627Z
URL:https://ajedrez.madrid/eventos/iii-torneo-benefico-aecc/
SUMMARY:III Torneo Benéfico AECC
DESCRIPTION:[pdf-embedder url="https://ajedrez.madrid/wp-content/uploads/II
 I-Torneo-Benefico-AECC.pdf" title="III Torneo Benéfico AECC"]
ATTACH;FMTTYPE=image/jpeg:https://ajedrez.madrid/wp-content/uploads/III-To
 rneo-Benefico-AECC-scaled.jpg
END:VEVENT
BEGIN:VTIMEZONE
TZID:Europe/Madrid
X-LIC-LOCATION:Europe/Madrid
BEGIN:DAYLIGHT
DTSTART:20250330T030000
TZOFFSETFROM:+0100
TZOFFSETTO:+0200
TZNAME:CEST
END:DAYLIGHT
END:VTIMEZONE
END:VCALENDAR