BEGIN:VCALENDAR
VERSION:2.0
PRODID:-//wp-events-plugin.com//7.2.3.1//EN
TZID:Europe/Madrid
X-WR-TIMEZONE:Europe/Madrid
BEGIN:VEVENT
UID:18@ajedrez.madrid
DTSTART;TZID=Europe/Madrid:20240921T183000
DTEND;TZID=Europe/Madrid:20240921T203000
DTSTAMP:20240820T125112Z
URL:https://ajedrez.madrid/eventos/torneo-masnou-victoria-de-lepanto-2024/
SUMMARY:Torneo Masnou Victoria de Lepanto 2024
DESCRIPTION:[pdf-embedder url="https://ajedrez.madrid/wp-content/uploads/Ma
 snou-Victoria-de-Lepanto-2024.pdf"]
END:VEVENT
BEGIN:VTIMEZONE
TZID:Europe/Madrid
X-LIC-LOCATION:Europe/Madrid
BEGIN:DAYLIGHT
DTSTART:20240331T030000
TZOFFSETFROM:+0100
TZOFFSETTO:+0200
TZNAME:CEST
END:DAYLIGHT
END:VTIMEZONE
END:VCALENDAR