BEGIN:VCALENDAR
VERSION:2.0
PRODID:-//wp-events-plugin.com//7.2.3.1//EN
TZID:Europe/Madrid
X-WR-TIMEZONE:Europe/Madrid
BEGIN:VEVENT
UID:101@ajedrez.madrid
DTSTART;TZID=Europe/Madrid:20260607T100000
DTEND;TZID=Europe/Madrid:20260607T140000
DTSTAMP:20260409T083250Z
URL:https://ajedrez.madrid/eventos/xi-open-club-de-ajedrez-montpellier/
SUMMARY:XI Open Club de Ajedrez Montpellier
DESCRIPTION:[pdf-embedder url="https://ajedrez.madrid/wp-content/uploads/XI
 -Open-Club-de-Ajedrez-Montpellier.pdf" title="XI Open Club de Ajedrez Mont
 pellier"]
END:VEVENT
BEGIN:VTIMEZONE
TZID:Europe/Madrid
X-LIC-LOCATION:Europe/Madrid
BEGIN:DAYLIGHT
DTSTART:20260329T030000
TZOFFSETFROM:+0100
TZOFFSETTO:+0200
TZNAME:CEST
END:DAYLIGHT
END:VTIMEZONE
END:VCALENDAR